BEGIN:VCALENDAR
VERSION:2.0
PRODID:-//Princeton University Humanities Council - ECPv6.15.16//NONSGML v1.0//EN
CALSCALE:GREGORIAN
METHOD:PUBLISH
X-WR-CALNAME:Princeton University Humanities Council
X-ORIGINAL-URL:https://humanities.princeton.edu
X-WR-CALDESC:Events for Princeton University Humanities Council
REFRESH-INTERVAL;VALUE=DURATION:PT1H
X-Robots-Tag:noindex
X-PUBLISHED-TTL:PT1H
BEGIN:VTIMEZONE
TZID:America/New_York
BEGIN:DAYLIGHT
TZOFFSETFROM:-0500
TZOFFSETTO:-0400
TZNAME:EDT
DTSTART:20190310T070000
END:DAYLIGHT
BEGIN:STANDARD
TZOFFSETFROM:-0400
TZOFFSETTO:-0500
TZNAME:EST
DTSTART:20191103T060000
END:STANDARD
BEGIN:DAYLIGHT
TZOFFSETFROM:-0500
TZOFFSETTO:-0400
TZNAME:EDT
DTSTART:20200308T070000
END:DAYLIGHT
BEGIN:STANDARD
TZOFFSETFROM:-0400
TZOFFSETTO:-0500
TZNAME:EST
DTSTART:20201101T060000
END:STANDARD
BEGIN:DAYLIGHT
TZOFFSETFROM:-0500
TZOFFSETTO:-0400
TZNAME:EDT
DTSTART:20210314T070000
END:DAYLIGHT
BEGIN:STANDARD
TZOFFSETFROM:-0400
TZOFFSETTO:-0500
TZNAME:EST
DTSTART:20211107T060000
END:STANDARD
END:VTIMEZONE
BEGIN:VEVENT
DTSTART;TZID=America/New_York:20200213T180000
DTEND;TZID=America/New_York:20200213T193000
DTSTAMP:20260424T173804
CREATED:20200131T215009Z
LAST-MODIFIED:20200131T215009Z
UID:27508-1581616800-1581622200@humanities.princeton.edu
SUMMARY:On Pattern-Thinking: A Conversation on R. Buckminster Fuller
DESCRIPTION:A discussion on R. Buckminster Fuller with Daniel López-Pérez and Lars Müller with Stan Allen\, Jesse Reiser\, and Jaime Snyder. Opening reception for the exhibition\, R. Buckminster Fuller\, Pattern-Thinking\, to follow immediately after. \nDaniel López-Pérez (Madrid\, 1973) holds a PhD in the History and Theory of Architecture from Princeton University and is an associate professor and founding faculty member of the Architecture Program at the University of San Diego. López-Pérez is the author of R. Buckminster Fuller\, Pattern-Thinking (Lars Müller Publishers\, 2020) and edited Fuller in Mexico / Fuller en México! (Arquine\, 2015) and R. Buckminster Fuller: World-Man (Princeton Architectural Press\, 2013)\, awarded Design Book of the Year 2013 by Architect magazine. \nLars Müller (Oslo\, 1955 and a Norwegian citizen) has been based in Switzerland since 1963. After becoming a graphic designer in Zurich\, extended travels\, and a one-year assistant position with designer Wim Crouwel in Amsterdam\, Müller established his studio in Baden/Switzerland in 1982. In 1983 Müller published his first book and\, as Lars Müller Publishers\, has produced some 600 titles to date. \nLars Müller is a passionate educator and has taught at various universities in Switzerland and in Europe. Recently\, he taught as the Regents’ Professor at UCLA. Müller frequently serves on academic and competition juries. From 2009 to 2015 he was a member of the jury of Design Preis Schweiz. Müller was the international president of AGI Alliance Graphique Internationale from 2013 to 2015.
URL:https://humanities.princeton.edu/event/on-pattern-thinking-a-conversation-on-r-buckminster-fuller/
LOCATION:Betts Auditorium
ORGANIZER;CN="Carrie Ruddick":MAILTO:cruddick@princeton.edu
END:VEVENT
END:VCALENDAR