BEGIN:VCALENDAR
VERSION:2.0
PRODID:-//Princeton University Humanities Council - ECPv6.15.16//NONSGML v1.0//EN
CALSCALE:GREGORIAN
METHOD:PUBLISH
X-WR-CALNAME:Princeton University Humanities Council
X-ORIGINAL-URL:https://humanities.princeton.edu
X-WR-CALDESC:Events for Princeton University Humanities Council
REFRESH-INTERVAL;VALUE=DURATION:PT1H
X-Robots-Tag:noindex
X-PUBLISHED-TTL:PT1H
BEGIN:VTIMEZONE
TZID:America/New_York
BEGIN:DAYLIGHT
TZOFFSETFROM:-0500
TZOFFSETTO:-0400
TZNAME:EDT
DTSTART:20200308T070000
END:DAYLIGHT
BEGIN:STANDARD
TZOFFSETFROM:-0400
TZOFFSETTO:-0500
TZNAME:EST
DTSTART:20201101T060000
END:STANDARD
BEGIN:DAYLIGHT
TZOFFSETFROM:-0500
TZOFFSETTO:-0400
TZNAME:EDT
DTSTART:20210314T070000
END:DAYLIGHT
BEGIN:STANDARD
TZOFFSETFROM:-0400
TZOFFSETTO:-0500
TZNAME:EST
DTSTART:20211107T060000
END:STANDARD
BEGIN:DAYLIGHT
TZOFFSETFROM:-0500
TZOFFSETTO:-0400
TZNAME:EDT
DTSTART:20220313T070000
END:DAYLIGHT
BEGIN:STANDARD
TZOFFSETFROM:-0400
TZOFFSETTO:-0500
TZNAME:EST
DTSTART:20221106T060000
END:STANDARD
END:VTIMEZONE
BEGIN:VEVENT
DTSTART;TZID=America/New_York:20210419T163000
DTEND;TZID=America/New_York:20210419T163000
DTSTAMP:20260425T063733
CREATED:20210130T170256Z
LAST-MODIFIED:20220314T152557Z
UID:36851-1618849800-1618849800@humanities.princeton.edu
SUMMARY:Old Dominion Series: Pride and Prejudice: not altogether ‘light & bright & sparkling’
DESCRIPTION:In the final talk of the 2020-2021 Old Dominion Series\, Susan J. Wolfson (English) gives a talk on “Pride and Prejudice: not altogether ‘light & bright & sparkling’.” \nJane Austen’s Pride and Prejudice has seemed\, for generations\, her most unified\, satisfying and delightful romance. That’s the plotwork\, anyway\, for two of the five Bennet sisters\, with the marriage market seconds or remainders subject to comedy\, satire\, marginalization\, or erasure. Beyond these ghosts of romance\, its textual field leaves a lot of litter—clutters of cultural information\, stated\, subordinated\, implied\, or indicated on slants\, that disrupts its literary shaping with markers of the unorganized material world across which its plot unfolds.  My talk is about the Austenian investment in this litter on the literary surface\, in six scenes of loose ends and dispersed data that resist tying up into fictional or social coherence. These complications\, and their pressures of contradiction extend not least\, to one near double to Austen herself. \nRegistration required: https://princeton.zoom.us/meeting/register/tJcuc-2rrDkpHt13hvMnPzW_Ofqp24Etiroh
URL:https://humanities.princeton.edu/event/old-dominion-series-pride-and-prejudice-not-altogether-light-bright-sparkling/
LOCATION:Zoom
ATTACH;FMTTYPE=image/png:https://humanities.princeton.edu/wp-content/uploads/2021/01/WolfsonODP.png
END:VEVENT
END:VCALENDAR