BEGIN:VCALENDAR
VERSION:2.0
PRODID:-//Princeton University Humanities Council - ECPv6.15.16//NONSGML v1.0//EN
CALSCALE:GREGORIAN
METHOD:PUBLISH
X-WR-CALNAME:Princeton University Humanities Council
X-ORIGINAL-URL:https://humanities.princeton.edu
X-WR-CALDESC:Events for Princeton University Humanities Council
REFRESH-INTERVAL;VALUE=DURATION:PT1H
X-Robots-Tag:noindex
X-PUBLISHED-TTL:PT1H
BEGIN:VTIMEZONE
TZID:America/New_York
BEGIN:DAYLIGHT
TZOFFSETFROM:-0500
TZOFFSETTO:-0400
TZNAME:EDT
DTSTART:20200308T070000
END:DAYLIGHT
BEGIN:STANDARD
TZOFFSETFROM:-0400
TZOFFSETTO:-0500
TZNAME:EST
DTSTART:20201101T060000
END:STANDARD
BEGIN:DAYLIGHT
TZOFFSETFROM:-0500
TZOFFSETTO:-0400
TZNAME:EDT
DTSTART:20210314T070000
END:DAYLIGHT
BEGIN:STANDARD
TZOFFSETFROM:-0400
TZOFFSETTO:-0500
TZNAME:EST
DTSTART:20211107T060000
END:STANDARD
BEGIN:DAYLIGHT
TZOFFSETFROM:-0500
TZOFFSETTO:-0400
TZNAME:EDT
DTSTART:20220313T070000
END:DAYLIGHT
BEGIN:STANDARD
TZOFFSETFROM:-0400
TZOFFSETTO:-0500
TZNAME:EST
DTSTART:20221106T060000
END:STANDARD
END:VTIMEZONE
BEGIN:VEVENT
DTSTART;TZID=America/New_York:20211103T120000
DTEND;TZID=America/New_York:20211103T133000
DTSTAMP:20260424T162139
CREATED:20210915T161008Z
LAST-MODIFIED:20210915T182230Z
UID:40790-1635940800-1635946200@humanities.princeton.edu
SUMMARY:LAMB - Charity and Entitlement in the Early Middle Ages
DESCRIPTION:The Late Antique\, Medieval\, and Byzantine Workshop at Princeton University (LAMB) brings together graduate students from across departments and disciplines who study and research any region ca. 300-1500 CE\, and offers an opportunity to present and discuss their research with others from within and outside their fields. \nIn addition to providing scholarly support\, development\, and camaraderie\, LAMB prepares us to flourish after graduation. Pre-modernists are often tasked with teaching across geographies and time periods. Learning from each other through workshops provides an opportunity to put our research and our disciplines in conversation with one another. This is essential since medieval studies is unusually interdisciplinary by design\, necessity\, and institutional history. \nLAMB meetings are open to Princeton graduate students. \nRSVP is required. Please see the LAMB website for the RSVP form. \nFor questions\, please contact Abigail Sargent (ams5@princeton.edu) or Nick Churik (nchurik@princeton.edu).
URL:https://humanities.princeton.edu/event/lamb-charity-and-entitlement-in-the-early-middle-ages/
LOCATION:209 Scheide Caldwell\, 209 Scheide Caldwell\, Princeton\, NJ\, 08544\, United States
ATTACH;FMTTYPE=image/jpeg:https://humanities.princeton.edu/wp-content/uploads/2021/09/LAMB-image.jpg
GEO:40.3494863;-74.6585743
X-APPLE-STRUCTURED-LOCATION;VALUE=URI;X-ADDRESS=209 Scheide Caldwell 209 Scheide Caldwell Princeton NJ 08544 United States;X-APPLE-RADIUS=500;X-TITLE=209 Scheide Caldwell:geo:-74.6585743,40.3494863
END:VEVENT
END:VCALENDAR