BEGIN:VCALENDAR
VERSION:2.0
PRODID:-//Princeton University Humanities Council - ECPv6.15.16//NONSGML v1.0//EN
CALSCALE:GREGORIAN
METHOD:PUBLISH
X-WR-CALNAME:Princeton University Humanities Council
X-ORIGINAL-URL:https://humanities.princeton.edu
X-WR-CALDESC:Events for Princeton University Humanities Council
REFRESH-INTERVAL;VALUE=DURATION:PT1H
X-Robots-Tag:noindex
X-PUBLISHED-TTL:PT1H
BEGIN:VTIMEZONE
TZID:America/New_York
BEGIN:DAYLIGHT
TZOFFSETFROM:-0500
TZOFFSETTO:-0400
TZNAME:EDT
DTSTART:20210314T070000
END:DAYLIGHT
BEGIN:STANDARD
TZOFFSETFROM:-0400
TZOFFSETTO:-0500
TZNAME:EST
DTSTART:20211107T060000
END:STANDARD
BEGIN:DAYLIGHT
TZOFFSETFROM:-0500
TZOFFSETTO:-0400
TZNAME:EDT
DTSTART:20220313T070000
END:DAYLIGHT
BEGIN:STANDARD
TZOFFSETFROM:-0400
TZOFFSETTO:-0500
TZNAME:EST
DTSTART:20221106T060000
END:STANDARD
BEGIN:DAYLIGHT
TZOFFSETFROM:-0500
TZOFFSETTO:-0400
TZNAME:EDT
DTSTART:20230312T070000
END:DAYLIGHT
BEGIN:STANDARD
TZOFFSETFROM:-0400
TZOFFSETTO:-0500
TZNAME:EST
DTSTART:20231105T060000
END:STANDARD
END:VTIMEZONE
BEGIN:VEVENT
DTSTART;TZID=America/New_York:20220414T120000
DTEND;TZID=America/New_York:20220414T133000
DTSTAMP:20260422T042957
CREATED:20220204T163359Z
LAST-MODIFIED:20220207T004546Z
UID:44196-1649937600-1649943000@humanities.princeton.edu
SUMMARY:Bodies of Knowledge Working Group — Theorizing Eros: Queer Genealogies of Critical Materialism
DESCRIPTION:RSVP required. Register here. \nThe Humanities Council sponsors the Bodies of Knowledge Working Group whose purpose is to engage faculty\, staff\, and graduate students in questions around embodiment from a wide range of viewpoints including the medical humanities\, disability studies\, art history and aesthetics\, and environmental studies in the Anthropocene. In particular\, the group hopes to foster intellectual partnerships with those within and beyond the humanities who share a critical interest in exploring and expanding the multidisciplinary conversations surrounding bodies\, their environs\, and their representations. \nIf you would like to be included in the list of participants\, are interested in presenting your work-in-progress\, or have any programming inquiries\, please contact Elena Fratto (Slavic Languages and Literatures) at efratto@princeton.edu or Arbel Griner (Princeton School of Public and International Affairs) at agriner@princeton.edu.
URL:https://humanities.princeton.edu/event/bodies-of-knowledge-working-group-theorizing-eros-queer-genealogies-of-critical-materialism/
LOCATION:Zoom
ATTACH;FMTTYPE=image/jpeg:https://humanities.princeton.edu/wp-content/uploads/2020/02/Bodies-of-Knowledge-3.jpg
END:VEVENT
END:VCALENDAR